BEGIN:VCALENDAR
VERSION:2.0
PRODID:-//Tukios.com/
BEGIN:VEVENT
UID:511f0616-4dcf-470b-b0ad-ca4dc6da728a@www.thomasfuneralhomecalhoun.com
DTSTAMP:20260423T184158Z
DTSTART:20260426T170000Z
DTEND:20260426T190000Z
SUMMARY:Visitation
DESCRIPTION:
URL:https://www.thomasfuneralhomecalhoun.com/obituaries/cathy-phillips
LOCATION:Thomas Funeral Home 535 Red Bud Road N.E.  Calhoun GA 30701
GEO:34.5119273;-84.9376507
END:VEVENT
END:VCALENDAR