BEGIN:VCALENDAR
VERSION:2.0
PRODID:-//Tukios.com/
BEGIN:VEVENT
UID:a10c6838-81d2-40d0-b219-17313996f35c@www.thomasfuneralhomecalhoun.com
DTSTAMP:20260423T184038Z
DTSTART:20260426T190000Z
DTEND:20260426T200000Z
SUMMARY:Funeral Service
DESCRIPTION:
URL:https://www.thomasfuneralhomecalhoun.com/obituaries/cathy-phillips
LOCATION:Thomas Funeral Home 535 Red Bud Road N.E.  Calhoun GA 30701
GEO:34.5119273;-84.9376507
END:VEVENT
END:VCALENDAR