BEGIN:VCALENDAR
VERSION:2.0
PRODID:-//Tukios.com/
BEGIN:VEVENT
UID:685e2247-ba81-4345-ac70-3c11f7ce2621@www.thomasfuneralhomecalhoun.com
DTSTAMP:20260420T221030Z
DTSTART:20260423T200000Z
DTEND:20260423T230000Z
SUMMARY:Visitation
DESCRIPTION:
URL:https://www.thomasfuneralhomecalhoun.com/obituaries/frances-young
LOCATION:Thomas Funeral Home 535 Red Bud Road N.E.  Calhoun GA 30701
GEO:34.5119273;-84.9376507
END:VEVENT
END:VCALENDAR