BEGIN:VCALENDAR
VERSION:2.0
PRODID:-//Tukios.com/
BEGIN:VEVENT
UID:fda47b15-c8e4-4eb6-b06d-577d5e69b2e6@www.thomasfuneralhomecalhoun.com
DTSTAMP:20260420T221453Z
DTSTART:20260424T150000Z
DTEND:20260424T160000Z
SUMMARY:Funeral Service
DESCRIPTION:
URL:https://www.thomasfuneralhomecalhoun.com/obituaries/frances-young
LOCATION:     GA 
GEO:32.1656221;-82.9000751
END:VEVENT
END:VCALENDAR