BEGIN:VCALENDAR
VERSION:2.0
PRODID:-//Tukios.com/
BEGIN:VEVENT
UID:418dc9be-df8a-4716-aaf1-f1c10c7acdca@www.thomasfuneralhomecalhoun.com
DTSTAMP:20260423T215812Z
DTSTART:20260425T160000Z
DTEND:20260425T180000Z
SUMMARY:Visitation
DESCRIPTION:
URL:https://www.thomasfuneralhomecalhoun.com/obituaries/joe-wayne-phillips
LOCATION:Thomas Funeral Home 535 Red Bud Road N.E.  Calhoun GA 30701
GEO:34.5119273;-84.9376507
END:VEVENT
END:VCALENDAR