BEGIN:VCALENDAR
VERSION:2.0
PRODID:-//Tukios.com/
BEGIN:VEVENT
UID:80faaa3a-6e46-496e-90eb-ae1e62478dea@www.thomasfuneralhomecalhoun.com
DTSTAMP:20260423T215915Z
DTSTART:20260425T180000Z
DTEND:20260425T190000Z
SUMMARY:Celebration of Life
DESCRIPTION:
URL:https://www.thomasfuneralhomecalhoun.com/obituaries/joe-wayne-phillips
LOCATION:Chapel of Thomas Funeral Home 535 Red Bud Road Northeast  
	Calhoun GA 30701
GEO:34.5118892;-84.9376951
END:VEVENT
END:VCALENDAR