BEGIN:VCALENDAR
VERSION:2.0
PRODID:-//Tukios.com/
BEGIN:VEVENT
UID:aaa4c9d2-f76e-42de-81c4-885a8756c165@www.thomasfuneralhomecalhoun.com
DTSTAMP:20260420T081938Z
DTSTART:20260307T200000Z
DTEND:20260307T210000Z
SUMMARY:Celebration of Life
DESCRIPTION:
URL:https://www.thomasfuneralhomecalhoun.com/obituaries/ramona-reese
LOCATION:Thomas Funeral Home 535 Red Bud Road N.E.  Calhoun GA 30701
GEO:34.5119273;-84.9376507
END:VEVENT
END:VCALENDAR